BEGIN:VCALENDAR
VERSION:2.0
PRODID:-// CC El Temple - ECPv6.15.20//NONSGML v1.0//EN
CALSCALE:GREGORIAN
METHOD:PUBLISH
X-ORIGINAL-URL:https://eltemple-palma.centrosfest.net
X-WR-CALDESC:Eventos para  CC El Temple
REFRESH-INTERVAL;VALUE=DURATION:PT1H
X-Robots-Tag:noindex
X-PUBLISHED-TTL:PT1H
BEGIN:VTIMEZONE
TZID:Europe/Madrid
BEGIN:DAYLIGHT
TZOFFSETFROM:+0100
TZOFFSETTO:+0200
TZNAME:CEST
DTSTART:20250330T010000
END:DAYLIGHT
BEGIN:STANDARD
TZOFFSETFROM:+0200
TZOFFSETTO:+0100
TZNAME:CET
DTSTART:20251026T010000
END:STANDARD
BEGIN:DAYLIGHT
TZOFFSETFROM:+0100
TZOFFSETTO:+0200
TZNAME:CEST
DTSTART:20260329T010000
END:DAYLIGHT
BEGIN:STANDARD
TZOFFSETFROM:+0200
TZOFFSETTO:+0100
TZNAME:CET
DTSTART:20261025T010000
END:STANDARD
BEGIN:DAYLIGHT
TZOFFSETFROM:+0100
TZOFFSETTO:+0200
TZNAME:CEST
DTSTART:20270328T010000
END:DAYLIGHT
BEGIN:STANDARD
TZOFFSETFROM:+0200
TZOFFSETTO:+0100
TZNAME:CET
DTSTART:20271031T010000
END:STANDARD
END:VTIMEZONE
BEGIN:VEVENT
DTSTART;VALUE=DATE:20260226
DTEND;VALUE=DATE:20260227
DTSTAMP:20260421T004846
CREATED:20260129T142940Z
LAST-MODIFIED:20260129T143626Z
UID:730-1772064000-1772150399@eltemple-palma.centrosfest.net
SUMMARY:FESTIU. Subtitució Festa Local.
DESCRIPTION:
URL:https://eltemple-palma.centrosfest.net/event/subtitucio-festa-local/
END:VEVENT
BEGIN:VEVENT
DTSTART;VALUE=DATE:20260227
DTEND;VALUE=DATE:20260228
DTSTAMP:20260421T004846
CREATED:20260129T143019Z
LAST-MODIFIED:20260129T143543Z
UID:732-1772150400-1772236799@eltemple-palma.centrosfest.net
SUMMARY:FESTIU. Festa Escolar Unificada
DESCRIPTION:
URL:https://eltemple-palma.centrosfest.net/event/festa-escolar-unificada/
END:VEVENT
BEGIN:VEVENT
DTSTART;VALUE=DATE:20260302
DTEND;VALUE=DATE:20260303
DTSTAMP:20260421T004846
CREATED:20260129T143104Z
LAST-MODIFIED:20260129T143516Z
UID:734-1772409600-1772495999@eltemple-palma.centrosfest.net
SUMMARY:FESTIU. Festa Illes Balears
DESCRIPTION:
URL:https://eltemple-palma.centrosfest.net/event/festa-illes-balears/
END:VEVENT
BEGIN:VEVENT
DTSTART;VALUE=DATE:20260330
DTEND;VALUE=DATE:20260331
DTSTAMP:20260421T004846
CREATED:20260129T143756Z
LAST-MODIFIED:20260129T143756Z
UID:740-1774828800-1774915199@eltemple-palma.centrosfest.net
SUMMARY:Jornada d’anglès
DESCRIPTION:
URL:https://eltemple-palma.centrosfest.net/event/jornada-dangles/
END:VEVENT
BEGIN:VEVENT
DTSTART;VALUE=DATE:20260402
DTEND;VALUE=DATE:20260413
DTSTAMP:20260421T004846
CREATED:20260129T143950Z
LAST-MODIFIED:20260129T143950Z
UID:742-1775088000-1776038399@eltemple-palma.centrosfest.net
SUMMARY:VACANCES PASQUA
DESCRIPTION:
URL:https://eltemple-palma.centrosfest.net/event/vacances-pasqua/
END:VEVENT
BEGIN:VEVENT
DTSTART;VALUE=DATE:20260501
DTEND;VALUE=DATE:20260502
DTSTAMP:20260421T004846
CREATED:20260129T144037Z
LAST-MODIFIED:20260129T144037Z
UID:744-1777593600-1777679999@eltemple-palma.centrosfest.net
SUMMARY:FESTIU. Dia del Treball
DESCRIPTION:
URL:https://eltemple-palma.centrosfest.net/event/festiu-dia-del-treball/
END:VEVENT
BEGIN:VEVENT
DTSTART;VALUE=DATE:20260504
DTEND;VALUE=DATE:20260505
DTSTAMP:20260421T004846
CREATED:20260129T144120Z
LAST-MODIFIED:20260129T144120Z
UID:746-1777852800-1777939199@eltemple-palma.centrosfest.net
SUMMARY:FESTIU. Festa Triada per l’escola
DESCRIPTION:
URL:https://eltemple-palma.centrosfest.net/event/festiu-festa-triada-per-lescola/
END:VEVENT
BEGIN:VEVENT
DTSTART;TZID=Europe/Madrid:20260605T080000
DTEND;TZID=Europe/Madrid:20260605T170000
DTSTAMP:20260421T004846
CREATED:20260129T144440Z
LAST-MODIFIED:20260129T144551Z
UID:749-1780646400-1780678800@eltemple-palma.centrosfest.net
SUMMARY:Festa Santíssima Trinitat
DESCRIPTION:
URL:https://eltemple-palma.centrosfest.net/event/festa-santissima-trinitat/
END:VEVENT
BEGIN:VEVENT
DTSTART;TZID=Europe/Madrid:20260616T143000
DTEND;TZID=Europe/Madrid:20260616T170000
DTSTAMP:20260421T004846
CREATED:20260129T144623Z
LAST-MODIFIED:20260129T144623Z
UID:751-1781620200-1781629200@eltemple-palma.centrosfest.net
SUMMARY:Festival fi de curs (Horabaixa)
DESCRIPTION:
URL:https://eltemple-palma.centrosfest.net/event/festival-fi-de-curs-horabaixa/
END:VEVENT
BEGIN:VEVENT
DTSTART;TZID=Europe/Madrid:20260618T080000
DTEND;TZID=Europe/Madrid:20260618T170000
DTSTAMP:20260421T004846
CREATED:20260129T144650Z
LAST-MODIFIED:20260130T125347Z
UID:753-1781769600-1781802000@eltemple-palma.centrosfest.net
SUMMARY:Festa Convivència ESO
DESCRIPTION:
URL:https://eltemple-palma.centrosfest.net/event/festa-convivencia-eso/
END:VEVENT
BEGIN:VEVENT
DTSTART;TZID=Europe/Madrid:20260619T080000
DTEND;TZID=Europe/Madrid:20260619T170000
DTSTAMP:20260421T004846
CREATED:20260129T144814Z
LAST-MODIFIED:20260129T144814Z
UID:757-1781856000-1781888400@eltemple-palma.centrosfest.net
SUMMARY:Acaben les classes EI-EP-ESO
DESCRIPTION:
URL:https://eltemple-palma.centrosfest.net/event/acaben-les-classes-ei-ep-eso/
END:VEVENT
END:VCALENDAR