BEGIN:VCALENDAR
VERSION:2.0
PRODID:-// CC El Temple - ECPv6.15.20//NONSGML v1.0//EN
CALSCALE:GREGORIAN
METHOD:PUBLISH
X-WR-CALNAME: CC El Temple
X-ORIGINAL-URL:https://eltemple-palma.centrosfest.net
X-WR-CALDESC:Eventos para  CC El Temple
REFRESH-INTERVAL;VALUE=DURATION:PT1H
X-Robots-Tag:noindex
X-PUBLISHED-TTL:PT1H
BEGIN:VTIMEZONE
TZID:Europe/Madrid
BEGIN:DAYLIGHT
TZOFFSETFROM:+0100
TZOFFSETTO:+0200
TZNAME:CEST
DTSTART:20240331T010000
END:DAYLIGHT
BEGIN:STANDARD
TZOFFSETFROM:+0200
TZOFFSETTO:+0100
TZNAME:CET
DTSTART:20241027T010000
END:STANDARD
BEGIN:DAYLIGHT
TZOFFSETFROM:+0100
TZOFFSETTO:+0200
TZNAME:CEST
DTSTART:20250330T010000
END:DAYLIGHT
BEGIN:STANDARD
TZOFFSETFROM:+0200
TZOFFSETTO:+0100
TZNAME:CET
DTSTART:20251026T010000
END:STANDARD
BEGIN:DAYLIGHT
TZOFFSETFROM:+0100
TZOFFSETTO:+0200
TZNAME:CEST
DTSTART:20260329T010000
END:DAYLIGHT
BEGIN:STANDARD
TZOFFSETFROM:+0200
TZOFFSETTO:+0100
TZNAME:CET
DTSTART:20261025T010000
END:STANDARD
BEGIN:DAYLIGHT
TZOFFSETFROM:+0100
TZOFFSETTO:+0200
TZNAME:CEST
DTSTART:20270328T010000
END:DAYLIGHT
BEGIN:STANDARD
TZOFFSETFROM:+0200
TZOFFSETTO:+0100
TZNAME:CET
DTSTART:20271031T010000
END:STANDARD
END:VTIMEZONE
BEGIN:VEVENT
DTSTART;VALUE=DATE:20260402
DTEND;VALUE=DATE:20260413
DTSTAMP:20260420T222408
CREATED:20260129T143950Z
LAST-MODIFIED:20260129T143950Z
UID:742-1775088000-1776038399@eltemple-palma.centrosfest.net
SUMMARY:VACANCES PASQUA
DESCRIPTION:
URL:https://eltemple-palma.centrosfest.net/event/vacances-pasqua/
END:VEVENT
BEGIN:VEVENT
DTSTART;VALUE=DATE:20260330
DTEND;VALUE=DATE:20260331
DTSTAMP:20260420T222408
CREATED:20260129T143756Z
LAST-MODIFIED:20260129T143756Z
UID:740-1774828800-1774915199@eltemple-palma.centrosfest.net
SUMMARY:Jornada d’anglès
DESCRIPTION:
URL:https://eltemple-palma.centrosfest.net/event/jornada-dangles/
END:VEVENT
BEGIN:VEVENT
DTSTART;VALUE=DATE:20260302
DTEND;VALUE=DATE:20260303
DTSTAMP:20260420T222408
CREATED:20260129T143104Z
LAST-MODIFIED:20260129T143516Z
UID:734-1772409600-1772495999@eltemple-palma.centrosfest.net
SUMMARY:FESTIU. Festa Illes Balears
DESCRIPTION:
URL:https://eltemple-palma.centrosfest.net/event/festa-illes-balears/
END:VEVENT
BEGIN:VEVENT
DTSTART;VALUE=DATE:20260227
DTEND;VALUE=DATE:20260228
DTSTAMP:20260420T222408
CREATED:20260129T143019Z
LAST-MODIFIED:20260129T143543Z
UID:732-1772150400-1772236799@eltemple-palma.centrosfest.net
SUMMARY:FESTIU. Festa Escolar Unificada
DESCRIPTION:
URL:https://eltemple-palma.centrosfest.net/event/festa-escolar-unificada/
END:VEVENT
BEGIN:VEVENT
DTSTART;VALUE=DATE:20260226
DTEND;VALUE=DATE:20260227
DTSTAMP:20260420T222408
CREATED:20260129T142940Z
LAST-MODIFIED:20260129T143626Z
UID:730-1772064000-1772150399@eltemple-palma.centrosfest.net
SUMMARY:FESTIU. Subtitució Festa Local.
DESCRIPTION:
URL:https://eltemple-palma.centrosfest.net/event/subtitucio-festa-local/
END:VEVENT
BEGIN:VEVENT
DTSTART;TZID=Europe/Madrid:20250908T080000
DTEND;TZID=Europe/Madrid:20250908T170000
DTSTAMP:20260420T222408
CREATED:20250908T123141Z
LAST-MODIFIED:20250908T123141Z
UID:263-1757318400-1757350800@eltemple-palma.centrosfest.net
SUMMARY:Vuelta al Cole
DESCRIPTION:Vuelta al cole!
URL:https://eltemple-palma.centrosfest.net/event/vuelta-al-cole/
END:VEVENT
END:VCALENDAR